BEGIN:VCALENDAR
VERSION:2.0
PRODID:-//ChamberMaster//Event Calendar 2.0//EN
METHOD:PUBLISH
X-PUBLISHED-TTL:P3D
REFRESH-INTERVAL:P3D
CALSCALE:GREGORIAN
BEGIN:VEVENT
DTSTART:20210403T220000Z
DTEND:20210403T233000Z
X-MICROSOFT-CDO-ALLDAYEVENT:FALSE
SUMMARY:BBS British Bake Off Virtual Fundraiser
DESCRIPTION:Celebrate Easter with the BBS and join our Virtual British Bake Off!\n\n			 \n\n			As a way to have some fun and bring the community together we are doing the most British thing possible...hosting our very own Great British Bake Off virtual fundraiser! Over the Easter weekend\, we hope that you will participate & invite your anglophile friends to join.\n\n			 \n\n			All that you need to do is plan and bake your favorite Easter dessert-- cake\, biscuits or buns. The day before the event\, participants will be asked to submit a short video of what you plan to bake -- just like the show. All the participant videos will be edited together and shown at the virtual fundraiser on Saturday\, April 3rd.
X-ALT-DESC;FMTTYPE=text/html:<div>\n<table align="left" border="0" cellpadding="1" cellspacing="1" style="width:600px\;">\n	<tbody>\n		<tr>\n			<td>&nbsp\;</td>\n		</tr>\n		<tr>\n			<td>&nbsp\;</td>\n		</tr>\n		<tr>\n			<td>\n			<div style="text-align: center\;"><span style="color: rgb(0\, 0\, 128)\;"><strong>Celebrate Easter with the BBS and join our Virtual British Bake Off!</strong></span></div>\n\n			<div>&nbsp\;</div>\n\n			<div><span style="color: rgb(29\, 53\, 103)\; font-family: arial\, verdana\, helvetica\, sans-serif\;">As a way to have some fun and bring the community together we are doing the most British thing possible...hosting our very own Great British Bake Off virtual fundraiser! Over the Easter weekend\, we hope that you will participate &amp\; invite your anglophile friends to join.</span></div>\n\n			<div>&nbsp\;</div>\n\n			<div><span style="color: rgb(29\, 53\, 103)\; font-family: arial\, verdana\, helvetica\, sans-serif\;">All that you need to do is plan and bake your favorite Easter dessert-- cake\, biscuits or buns. The day before the event\, participants will be asked to submit a short video of what you plan to bake -- just like the show. All the participant videos will be edited together and shown at the virtual fundraiser on Saturday\, April 3rd.</span><br />\n			<br />\n			&nbsp\;</div>\n			</td>\n		</tr>\n	</tbody>\n</table>\n</div>\n\n<div style="text-align:center"><br />\n<br />\n<br />\n<br />\n<br />\n<br />\n<br />\n<br />\n<br />\n<br />\n<br />\n<br />\n<br />\n<br />\n<br />\n<br />\n<br />\n<br />\n<br />\n<br />\n<br />\n<br />\n<br />\n<br />\n<br />\n&nbsp\;</div>\n
LOCATION:The comfort of your own home.
UID:e.549.4702
SEQUENCE:3
DTSTAMP:20260425T214022Z
URL:http://babc.chambermaster.com/events/details/bbs-british-bake-off-virtual-fundraiser-4702
END:VEVENT

END:VCALENDAR
